BEGIN:VCALENDAR
PRODID:-//eluceo/ical//2.0/EN
VERSION:2.0
CALSCALE:GREGORIAN
BEGIN:VEVENT
UID:29a50b65d49c06c9eb0d7c9d9bc2f00c
DTSTAMP:20260420T223636Z
SUMMARY:Verjaardagsfeest 75 jaar 't Dreefke
DESCRIPTION:In mei viert de Gemeentelijke Basisschool ’t Dreefke een bijz
 ondere verjaardag: 75 jaar onderwijs in het hart van Meersel-Dreef. Om dit
  te vieren\, bundelden ’t Dreefke\, IKO Hoogstraten en Erfgoed Noorderke
 mpen hun krachten in een Kunstkuurproject.De feestmaand wordt afgesloten m
 et een groot verjaardagsfeest op zaterdag 30 mei vanaf 15 uur op de school
 site van GBS ’t Dreefke. Iedereen is welkom om samen te vieren\, de kuns
 tenaars te ontmoeten en de route te ontdekken. De wandeling is vrij toegan
 kelijk en geschikt voor gezinnen. Starten kan aan de school zelf. Meer inf
 o volgt.
DTSTART:20260530T150000
DTEND:20260530T150000
END:VEVENT
END:VCALENDAR
{
    "message": "Success"
}