BEGIN:VCALENDAR
PRODID:-//eluceo/ical//2.0/EN
VERSION:2.0
CALSCALE:GREGORIAN
BEGIN:VEVENT
UID:35f53e3bae8d0fa9cdec13d93390b961
DTSTAMP:20260422T155550Z
SUMMARY:37ste Aardbeientornooi Bridgeclub 
DESCRIPTION:De Hoogstraatse Bridgeclub organiseert haar 37ste Aardbeientorn
 ooi. Naar goede gewoonte doen ze dat in de ruime zalen van hotelschool VTI
 -Spijker.\nDankzij gulle sponsors bieden ze de deelnemers opnieuw een zeer
  mooie prijzentafel aan\, bovendien ontvangt elke deelnemer een halve kilo
  Hoogstraatse aardbeien.\nAanmelden kan vanaf 13 uur tot 13.50 uur - de ui
 tslag volgt om 19 uur. Er is parkeergelegenheid vlak voor de zaal en in de
  buurt.\nDeelname kost € 18 per persoon (€ 36 per paar). Om in te schr
 ijven vul je het online inschrijfformulier in op de website van de club (h
 oogstraatse-bridge-club.jimdofree.com). Daar kan je ook de ingeschreven pa
 ren opvolgen.
URL:https://hoogstraatse-bridge-club.jimdofree.com/aardbeien-tornooi-2026/
DTSTART:20260530T130000
DTEND:20260530T130000
END:VEVENT
END:VCALENDAR
{
    "message": "Success"
}