BEGIN:VCALENDAR
PRODID:-//eluceo/ical//2.0/EN
VERSION:2.0
CALSCALE:GREGORIAN
BEGIN:VEVENT
UID:d91cd3c059dc6850fe7a7d72bf8aa36a
DTSTAMP:20260422T174657Z
SUMMARY:Lezing: Omgaan met Parkinson
DESCRIPTION:De Hoogstraatse contactgroep Parkinson organiseert voor alle pe
 rsonen met Parkinson en hun mantelzorgers een infomoment.\nOp het programm
 a:13.30 u. onthaal14.00 u. info over de psychische en sociale gevolgen van
  de ziekte van Parkinson en van de medicatie14.15 u. voorstelling van PPEP
 4ALL\, een groepsprogramma voor patiënten met Parkinson en voor mantelzor
 gers\, door Agnes Van Loon en Lore Jansen\, gevolgd door een getuigenis va
 n een deelnemer15.15 u. individuele psychologische begeleiding van de pers
 oon met Parkinson15.30 u. gelegenheid om na te praten\, einde om 16 uur.\n
 \n\n\n\n\n\n\n\n\n\n\n\n\n\n\n\nInschrijven tot 1 mei via hoogstraten@park
 insonliga.be en overschrijving van € 5 per persoon op BE95 7390 2454 675
 8 met vermelding van je naam.
DTSTART:20260509T140000
DTEND:20260509T140000
END:VEVENT
END:VCALENDAR
{
    "message": "Success"
}