BEGIN:VCALENDAR
PRODID:-//eluceo/ical//2.0/EN
VERSION:2.0
CALSCALE:GREGORIAN
BEGIN:VEVENT
UID:d0ee73aed12a7221807a15a0210ea331
DTSTAMP:20260420T203346Z
SUMMARY:Koningschieting Sint-Jorisgilde Castelré
DESCRIPTION:De gilde van Castelré is de meest recent opgerichte gilde. Beg
 onnen in 1888 als buksgilde\, werd&nbsp\;ze in 1929 tot kruisbooggilde omg
 evormd.\nProgramma:\n13.00 u. Samenkomst in het lokaal (Café in Holland)1
 3.30 u. Welkomwoord aan de genodigden14.00 u. Alle aanwezigen mogen een er
 eschot uitbrengen14.30 u. Koningschieting door de leden van de gilde17.00 
 u. Viering van de nieuwe koning of de kersverse keizer
DTSTART:20260514T130000
DTEND:20260514T170000
END:VEVENT
END:VCALENDAR
{
    "message": "Success"
}