BEGIN:VCALENDAR
PRODID:-//eluceo/ical//2.0/EN
VERSION:2.0
CALSCALE:GREGORIAN
BEGIN:VEVENT
UID:0796670efb84c3a95f6788858dfad12c
DTSTAMP:20260424T215606Z
SUMMARY:Verlichte avondmarkt (Luizenmarkt)
DESCRIPTION:We weten zelf ook niet meer\, maar blijkbaar is 't vanavond avo
 ndmarkt op de Vrijheid tussen Café De Vrijheid en 't Begijnhof. \nGa zelf
  eens kijken\, bezoek de marktkramen en maak een wandelingetje over de Vri
 jheid ( de Vrijheid is gedeeltelijk verkeersvrij!). \nGa zeker ergens iets
  drinken en eten\, het is mooi weer en ook de natuur is stilaan op z'n moo
 ist! Prima tijd om even te wandelen!
URL:https://www.kv-tm.be/markt-hoogstraten/
DTSTART:20260424T160000
DTEND:20260424T220000
END:VEVENT
END:VCALENDAR
{
    "message": "Success"
}