BEGIN:VCALENDAR
PRODID:-//eluceo/ical//2.0/EN
VERSION:2.0
CALSCALE:GREGORIAN
BEGIN:VEVENT
UID:2ca600fec03054c8404bb8b037d6d7b7
DTSTAMP:20260420T223335Z
SUMMARY:Meermarkt
DESCRIPTION:Op 3 mei is het zo ver\, de eerste Meermarkt. Alles samen zulle
 n er in de zomer 5 markten te beleven zijn\, telkens de eerste zondag van 
 de maand.\n\n\nGelegenheids-marktkramers zijn altijd welkom. Nu nog een po
 rtie goed weer\, hele ladingen bezoekers zodat de marktkramers goed te doe
 n hebben…\n\n\n\nDe marktdata en thema’s zijn: 3 mei: start nieuwe mar
 ktseizoen\; 7 juni: kindermarkt met kraampjes uitgebaat door kinderen\, te
 kenwedstrijd\, springkasteel\;5 juli: Meermarkt\;2 augustus: proefmarkt op
  de kloostersite met drank en hapjes\; 6 september: streekproductenmarkt.
DTSTART:20260503T090000
DTEND:20260503T120000
END:VEVENT
END:VCALENDAR
{
    "message": "Success"
}