BEGIN:VCALENDAR
PRODID:-//eluceo/ical//2.0/EN
VERSION:2.0
CALSCALE:GREGORIAN
BEGIN:VEVENT
UID:e69b2566d355ba6e373f2846db4a1cce
DTSTAMP:20260420T200500Z
SUMMARY:Moederdagontbijt
DESCRIPTION:\n    KLJ Minderhout verrast op aanvraag alle mama’s én iede
 reen die zichzelf graag verwent met een goedgevulde ontbijtmand met een ve
 rs en feestelijk ontbijt.\n\n\n    De manden worden met zorg samengesteld 
 en bevatten een mix van lekkernijen om samen van te genieten van ovenverse
  broodjes\, beleg\, fruit\, iets zoets en een paar extraatjes.\n\n\n    Er
  zijn twee formules.\n\n\n    Je kan kiezen voor een levering aan huis tus
 sen 8 en 10 uur (enkel voor inwoners van Minderhout en Castelré)\, ideaal
  voor wie mama écht wil verrassen.\n    Of je kan de mand tussen 8 en 9.3
 0 uur afhalen aan het KLJ lokaal.\n\nBestellen kan via deze link naar het 
 bestelformulier (voor 24 april).\nMeer info: mail naar minderhoutklj@gmail
 .com of bel Nicolas Pauwels: +32 470 69 37 14. Smakelijk!\n
DTSTART:20260510T080000
DTEND:20260510T100000
END:VEVENT
END:VCALENDAR
{
    "message": "Success"
}