BEGIN:VCALENDAR
PRODID:-//eluceo/ical//2.0/EN
VERSION:2.0
CALSCALE:GREGORIAN
BEGIN:VEVENT
UID:e83f2cd3f65d1907a9f5c609175f7fc9
DTSTAMP:20260420T185733Z
SUMMARY:Koningschieting Sint-Jorisgilde Wortel
DESCRIPTION:De gilde van Wortel is de oudste uit de regio. In 1481 wordt ze
  voor het eerst met naam genoemd in de rekeningen van de rentmeesters\, ma
 ar bestond toen al langer.\n\n\nAls Catherine Sterkens zich op pinkstermaa
 ndag een derde maal tot koning schiet\, is ze de eerste vrouwelijke keizer
  van Sint-Joris Wortel en bij uitbreiding van alle kruisbooggilden in het 
 land.\nProgramma:\n13.00 u.: Samenkomst in De Guld13.30 u.: Optocht door h
 et dorp en naar KVNA Wortel14.15 u.: Ereschoten door alle aanwezigen14.45 
 u.: Koningschieten door de leden van de gilde16.00 u.: Huldiging van de ko
 ning of keizer16.30 u.: Receptie in De Guld.
DTSTART:20260525T130000
DTEND:20260525T170000
END:VEVENT
END:VCALENDAR
{
    "message": "Success"
}