BEGIN:VCALENDAR
PRODID:-//eluceo/ical//2.0/EN
VERSION:2.0
CALSCALE:GREGORIAN
BEGIN:VEVENT
UID:1ee4ae002a02bf4f264c6774d7b42c21
DTSTAMP:20260422T210435Z
SUMMARY:Garageverkoop Minderhout
DESCRIPTION:Je zolder\, garage of tuinhuis zit misschien nog wel vol met sp
 ullen die je waarschijnlijk nooit meer gebruikt. Het ideale moment om op t
 e ruimen en er anderen mee blij te maken.\nDaartoe organiseert Raak een ge
 zellige garageverkoop in alle straten van Minderhout. Op ongeveer 80 adres
 sen bieden mensen van alles aan: fietsen tuinmeubels\, kookgerei\, tuinger
 ief\, kleding\, speelgoed\, enz. De garageverkoop vindt plaats bij particu
 lieren in het dorp\, en dus niet op een vaste locatie.&nbsp\;\nEr is een f
 older met alle goederen en locaties die meedoen. Deze folder is gratis af 
 te halen op:&nbsp\;\nCarolinestraat 8Hoge Weg 24Vekenakker 5\n\n\n\nOphale
 n van de folder kan vanaf 8 uur op zondagmorgen 3 mei. Veel succes!
DTSTART:20260503T080000
DTEND:20260503T123000
END:VEVENT
END:VCALENDAR
{
    "message": "Success"
}