BEGIN:VCALENDAR
PRODID:-//eluceo/ical//2.0/EN
VERSION:2.0
CALSCALE:GREGORIAN
BEGIN:VEVENT
UID:a8c8a616541df21c0864504776bf8642
DTSTAMP:20260420T223939Z
SUMMARY:Dreef eet!
DESCRIPTION:Het dorpscomité ‘Dreef Leeft’ organiseert ook dit jaar ‘
 Dreef Eet’. \nOp het menu: frietjes met stoofvlees of vidé en groentebu
 ffet\, à volonté.\nOok is er een kindermenu beschikbaar\, tot en met 6 j
 aar is het gratis en tussen 6 en 12 jaar is het een kleine portie friet me
 t frikandel of kroket.\nDe eetbeurt zelf vindt plaats tussen 17 en 19 uur\
 , met nadien nog tijd om gezellig na te borrelen met livemuziek van WeZz.\
 nInschrijven is wel verplicht via QR-code op de huis-aan-huis bezorgde fly
 ers of via e-mail: dreefleeft@gmail.com. Dat kan tot en met zaterdag 30 me
 i. Jan kan ook de inschrijfstrook ingevuld bezorgen bij Heieinde 42B\, 232
 8 Meersel-Dreef\, samen met het verschuldigde bedrag.
DTSTART:20260606T153000
DTEND:20260606T210000
END:VEVENT
END:VCALENDAR
{
    "message": "Success"
}