BEGIN:VCALENDAR
PRODID:-//eluceo/ical//2.0/EN
VERSION:2.0
CALSCALE:GREGORIAN
BEGIN:VEVENT
UID:d874d393e2bcef2e0041c6515b475839
DTSTAMP:20260425T215339Z
SUMMARY:Rotary zomert in Merksplas Kolonie
DESCRIPTION:Gezellige tweedaagse beurs voor tuin- en buitenleven waarop 75 
 exposanten hun waar aan de man/ vrouw zullen brengen. De opbrengst is best
 emd voor het goede doel.Met exposanten worden bedoeld professionals\, maar
  evenzeer hobbyisten\, die bedrijvig zijn in de wereld van tuindecoratie\,
  plantgoed\, tuinmeubilair\, bomen\, planten\, onderhoud\, werktuigen\, an
 tiek\, decoratie\, ambacht\, kunst… \n\n\n\n\nOpen:\n\n    zaterdag 25 a
 pril van 12u t/m 20u (standhouders tot 18u geopend)\n    zondag 26 april v
 an 10u t/m 18u\n
URL:https://www.zomeren.be/
DTSTART:20260426T120000
DTEND:20260426T180000
END:VEVENT
END:VCALENDAR
{
    "message": "Success"
}