BEGIN:VCALENDAR
PRODID:-//eluceo/ical//2.0/EN
VERSION:2.0
CALSCALE:GREGORIAN
BEGIN:VEVENT
UID:cf32318f4f8201dd0e86f9904d34fbd4
DTSTAMP:20260420T223636Z
SUMMARY:Quizavond van Den Dorpel
DESCRIPTION:Jeugdhuis Den Dorpel organiseert een gezellige en uitdagende qu
 izavond. Het wordt opnieuw een aangename activiteit voor fervente quizzers
  én voor wie simpelweg een leuke avond wil beleven in een warme\, lokale 
 sfeer.\n\n\n\n\n\n\nDeelnemen kost 25 euro per team\, inschrijven via jeug
 dhuisdendorpel@gmail.com. Wie graag meedoet\, wordt aangeraden om zich tij
 dig in te schrijven.
DTSTART:20260509T200000
DTEND:20260509T200000
END:VEVENT
END:VCALENDAR
{
    "message": "Success"
}