BEGIN:VCALENDAR
PRODID:-//eluceo/ical//2.0/EN
VERSION:2.0
CALSCALE:GREGORIAN
BEGIN:VEVENT
UID:add7eda3a34ad0c737a5bac84936f79f
DTSTAMP:20260422T174500Z
SUMMARY:Tentoonstelling "Allez les filles" - keramiek - 4\,5\,6\,9 mei
DESCRIPTION:De derdejaars-cursisten van de opleiding Keramiek van IKO Hoogs
 traten maken met ’Allez les filles’ werk rond het voormalige internaat
  Spijker\, ingang aan de achterzijde van het gebouw.\nHet keramiekproject 
 onderzoekt deze plek. Achtergelaten materialen\, verloren voorwerpen en in
 grepen in klei vertalen de verhalen van het internaat en roepen de geschie
 denis op een nieuwe manier tot leven.\n\n\n\n\n\n\n\n\nDe resultaten zijn 
 te zien op locatie: internaat Spijker\, op maandag 4 en dinsdag 5 mei (14.
 30 tot 20 uur)\, woensdag 6 mei (18.30 - 20 uur) en zaterdag 9 mei (10 - 1
 6 uur).
DTSTART:20260504T143000
DTEND:20260509T160000
END:VEVENT
END:VCALENDAR
{
    "message": "Success"
}