BEGIN:VCALENDAR
PRODID:-//eluceo/ical//2.0/EN
VERSION:2.0
CALSCALE:GREGORIAN
BEGIN:VEVENT
UID:2f1dfcd98fb6f42004affea021731732
DTSTAMP:20260422T174507Z
SUMMARY:Heilig Bloedweek - Hoogstraten - 31 mei tot 7 juni
DESCRIPTION:Programma\nZondag 31 mei\n09.30 u. Hoogmis met de Gregoriaanse 
 schola en de dames van het Piuskoor\, voorganger: Prelaat Marc Fierens\, a
 bt van Averbode11.00 u. Processie\nWoensdag 3 juni - Jaarmarkt &amp\; Stra
 tenloop\n19.00 - 22.00 u. Light a candle (kaarsje branden) in de Begijnhof
 kerk\nDonderdag 4 juni Sacramentsdag\n10.00 u. Hoogmis18.00 u. Vespers (ge
 zongen avondgebed)\nZondag 7 juni\n09.30 u. Hoogmis met de Gregoriaanse sc
 hola en de dames van het Piuskoor11.00 u. Processie
DTSTART:20260531T093000
DTEND:20260607T220000
END:VEVENT
END:VCALENDAR
{
    "message": "Success"
}