BEGIN:VCALENDAR
PRODID:-//eluceo/ical//2.0/EN
VERSION:2.0
CALSCALE:GREGORIAN
BEGIN:VEVENT
UID:93f0bc55db7338cd0e34848ad860e488
DTSTAMP:20260420T140428Z
SUMMARY:Fototentoonstelling Fotogroep 't Slot
DESCRIPTION:Fotogroep 't Slot zet\, voor de 48ste keer op een rij\, Wortel 
 op de fotografische kaart. De tentoonstelling is open van 10.00 u. tot 18.
 00 u. op zondag 24 en maandag 25 mei (Pinkstermaandag).\nHet werk over de 
 periode 2025-2026 is zeer divers naar inhoud en vorm.&nbsp\; Iedere fotogr
 aaf/fotografe geeft met zijn/haar foto's uitdrukking aan een zeer persoonl
 ijke visie\, een zienswijze en een presentatie van beelden die precies ver
 tolken wat de maker wil delen met zijn publiek.&nbsp\;\nStellen tentoon :\
 nVic Aerts\, Guy Coertjens\, Marcel De Bruyn\, Hennie Herijgers\, Jan Jaco
 bs\, Jos Sommen\, Chris Swannet\, Jeep Van Beurden\, Ludo Van Deun\, Hilde
  Van Hool\, Marc Van Overveldt...
DTSTART:20260524T100000
DTEND:20260525T180000
END:VEVENT
END:VCALENDAR
{
    "message": "Success"
}