BEGIN:VCALENDAR
PRODID:-//eluceo/ical//2.0/EN
VERSION:2.0
CALSCALE:GREGORIAN
BEGIN:VEVENT
UID:1e99016dfc551c714d6b59dc3dab0c08
DTSTAMP:20260422T174814Z
SUMMARY:Peperfeesten in de Heilig Bloedweek
DESCRIPTION:Luc Meyvis organiseert weer de Peperfeesten bij Brasserie Oud H
 oogstraeten. Dat gebeurt al meer dan 20 jaar bij de start van de Heilig Bl
 oedweek.Om 19 uur is er een optreden van Putain Putain met Hoogstratenaar 
 Carl Janssens.Om 21 uur is het opnieuw aan ’t Verzet\, met Simon Standae
 rt (keyboard\, guitar\, percusssion &amp\; vocals)\, Bert Dufraing (lead g
 uitar &amp\; vocals)\, Luc Meyvis (drums) en Miel Horsten (bass).
DTSTART:20260530T190000
DTEND:20260530T235000
END:VEVENT
END:VCALENDAR
{
    "message": "Success"
}