BEGIN:VCALENDAR
PRODID:-//eluceo/ical//2.0/EN
VERSION:2.0
CALSCALE:GREGORIAN
BEGIN:VEVENT
UID:2d1d6612704215108a2798cc8a04bc48
DTSTAMP:20260420T001507Z
SUMMARY:Workshop koken: De betere croques
DESCRIPTION:Menu:&nbsp\;\n\nCroque kip – truffel – champignon\nCroque b
 rie – vijg – prosciutto\nCroque camembert – peer – walnoot\nCroque
  rosbief – mosterd – oude kaas\nDessert croque\nInschrijven via Fermho
 ogstraten@hotmail.com en betalen na bevestiging via de rekening van Ferm H
 oogstraten (BE72 7333 1810 0416) vóór 5 mei 2026.\nPrijs: € 20 voor Fe
 rmleden\; € 25 voor niet-Fermleden
URL:https://www.samenferm.be/vrije-tijd/activiteiten/workshop-koken-de-bete
 re-croques/1d710044-b3ce-4df6-9bd2-d6cd38e27433
DTSTART:20260512T190000
DTEND:20260512T190000
END:VEVENT
END:VCALENDAR
{
    "message": "Success"
}