BEGIN:VCALENDAR
PRODID:-//eluceo/ical//2.0/EN
VERSION:2.0
CALSCALE:GREGORIAN
BEGIN:VEVENT
UID:1ffe07435881f6dc4ffa5d6f13e7bb23
DTSTAMP:20260421T060744Z
SUMMARY:Bloed geven – Hoogstraten-dorp
DESCRIPTION:Jij kan zomaar het leven van iemand redden! Gewoon door bloed t
 e geven.Het vraagt amper een klein uurtje van je tijd.\nDatums bloed geven
  - Hoogstraten-dorp 2026\nwoensdag 13 mei17.00 u. - 20.30 u.vrijdag 31 jul
 i17.00 u. - 20.30 u.woensdag 5 augustus17.00 u. - 20.30 u.vrijdag 6 novemb
 er17.00 u. - 20.30 u.vrijdag 13 november17.00 u. - 20.30 u.
URL:https://donorportaal.rodekruis.be/
DTSTART:20260513T203000
DTEND:20260513T203000
LOCATION:Slommerhof 18 \, 2320 Hoogstraten
END:VEVENT
END:VCALENDAR
{
    "message": "Success"
}