BEGIN:VCALENDAR
PRODID:-//eluceo/ical//2.0/EN
VERSION:2.0
CALSCALE:GREGORIAN
BEGIN:VEVENT
UID:9a9a5f27b5d6a49b0af799c2c226a0ba
DTSTAMP:20260422T154446Z
SUMMARY:Open tuin Bonenakkers
DESCRIPTION:De groene loper wordt uitgerold voor Bonenakkers 2026. Tien jaa
 r na het voorzichtig begin kunnen de initiatiefnemers terugkijken op een e
 rg geslaagd sociaal project.De 19 tuintjes liggen er hopelijk in volle glo
 rie bij en de tuiniers van dienst mogen uitpakken met hun vruchten van moe
 der aarde. \nIedereen is welkom vanaf 14.00 u. en kan er genieten tot 17.0
 0 u. 
DTSTART:20260523T140000
DTEND:20260523T170000
END:VEVENT
END:VCALENDAR
{
    "message": "Success"
}