BEGIN:VCALENDAR
PRODID:-//eluceo/ical//2.0/EN
VERSION:2.0
CALSCALE:GREGORIAN
BEGIN:VEVENT
UID:6fc03713c957a6ededf611d1f09f20c9
DTSTAMP:20260422T175234Z
SUMMARY:Opendeurweekend secundaire scholen Hoogstraten - 8-9-10 mei
DESCRIPTION:Om alle scholen op je eigen tempo te kunnen ontdekken\, organis
 eert Mirho een opendeurweekend.Op vrijdagavond&nbsp\;8&nbsp\;mei kan je va
 n 15.00 u. tot 20.00 u. op VTI Spijker terecht. Op&nbsp\;zaterdag 9 mei op
 enen Klein Seminarie en ASO Spijker&nbsp\;van 10.00 u. tot 16.00 u. hun&nb
 sp\;deuren. En op zondag 10 mei sluit VITO&nbsp\;van 10.00 u. tot 16.00 u.
  het weekend af.&nbsp\;\nZoek&nbsp\;je ook een plaats om te verblijven\, l
 eren en sporten?&nbsp\;Ga dan op zaterdag&nbsp\;9&nbsp\;mei eens een kijkj
 e nemen in&nbsp\;het internaat.
DTSTART:20260508T000000
DTEND:20260510T000000
END:VEVENT
END:VCALENDAR
{
    "message": "Success"
}