BEGIN:VCALENDAR
PRODID:-//eluceo/ical//2.0/EN
VERSION:2.0
CALSCALE:GREGORIAN
BEGIN:VEVENT
UID:d5d5c859ce1bd114fc33995833564819
DTSTAMP:20260420T190509Z
SUMMARY:Rommelmarkt Wortel-Kolonie
DESCRIPTION:Reeds voor de éénentwintigste keer vindt dit jaar op Pinkster
 maandag weer de gezelligste rommelmarkt van de Kempen plaats in de dreven 
 van Wortel-Kolonie. Op meer dan 3\,5 km met 300+ standhouders is er voor e
 lk wat wils te vinden. Ga snuisteren tussen al de verloren schatten op zol
 der of ga aangenaam wandelen met je gezin in de dreven van Wortel-Kolonie.
 &nbsp\;\nEen hapje en een drankje is voorzien.&nbsp\;
DTSTART:20260525T060000
DTEND:20260525T170000
END:VEVENT
END:VCALENDAR
{
    "message": "Success"
}