BEGIN:VCALENDAR
PRODID:-//eluceo/ical//2.0/EN
VERSION:2.0
CALSCALE:GREGORIAN
BEGIN:VEVENT
UID:c8bfb12e53692d54fe6109e468809857
DTSTAMP:20260422T131105Z
SUMMARY:Opendeurdagen IKO-ateliers - 4\,5\,6 mei
DESCRIPTION:De eerste week van mei is het opendeur in IKO Hoogstraten – n
 iet toevallig op het moment dat de inschrijvingen voor schooljaar 2026-202
 7 van start gaan! Op 4\, 5 en 6 mei kan je de verschillende ateliers voor 
 volwassenen komen ontdekken en de cursisten in actie zien. Woensdag 6 mei 
 zetten ook de jongerenateliers hun deuren even open! De atelierleerkrachte
 n staan ondertussen paraat om eventuele vragen van bezoekers te beantwoord
 en.\n\n    Open ateliers volwassenen\n\n\n    Dokter Versmissenstraat 6 &a
 mp\; Buizelstraat 11\n        4 en 5 mei van 13.30 tot 17.00 uur en van 18
 .30 tot 22.00 uur\n        6 mei van 18.30 tot 22.00 uur\nOpen ateliers jo
 ngeren\nDokter Versmissenstraat 66 mei van 18.00 tot 19.30 uur\nAllez les 
 filles\nTijdens de opendeurdagen loopt er ook een bijzonder project van he
 t atelier Keramiek. ‘Allez les filles’ is een tentoonstelling waar erf
 goed en keramiek samenkomen. Het internaat van het Spijker ligt op wandela
 fstand van de IKO-ateliers\, dus een bezoek combineren is perfect mogelijk
 .\nInternaat Spijker\, Gelmelstraat 604 en 5 mei van 14.30 tot 20.00 uur6 
 mei van 18.30 tot 20.00 uur9 mei van 10.00 tot 16.00 uur
DTSTART:20260504T133000
DTEND:20260504T220000
END:VEVENT
END:VCALENDAR
{
    "message": "Success"
}