BEGIN:VCALENDAR
PRODID:-//eluceo/ical//2.0/EN
VERSION:2.0
CALSCALE:GREGORIAN
BEGIN:VEVENT
UID:5ca73386b286ac35726ae2b22f4013a9
DTSTAMP:20260421T075311Z
SUMMARY:Bloed geven – Hoogstraten-dorp
DESCRIPTION:\n    Jij kan zomaar het leven van iemand redden! Gewoon door b
 loed te geven.Het vraagt amper een klein uurtje van je tijd.\n\nDatums blo
 ed geven - Hoogstraten-dorp 2026\nvrijdag 8 mei17.00 u. - 20.30 u.woensdag
  13 mei17.00 u. - 20.30 u.vrijdag 31 juli17.00 u. - 20.30 u.woensdag 5 aug
 ustus17.00 u. - 20.30 u.vrijdag 6 november17.00 u. - 20.30 u.vrijdag 13 no
 vember17.00 u. - 20.30 u.
URL:https://donorportaal.rodekruis.be/
DTSTART:20260508T170000
DTEND:20260508T203000
LOCATION:Slommerhof 18 \, 2320 Hoogstraten
END:VEVENT
END:VCALENDAR
{
    "message": "Success"
}