BEGIN:VCALENDAR
PRODID:-//eluceo/ical//2.0/EN
VERSION:2.0
CALSCALE:GREGORIAN
BEGIN:VEVENT
UID:301aaddb1551e6009e617d336b5d36e8
DTSTAMP:20260422T174322Z
SUMMARY:Quiz - Boven de wolken/Berrefonds
DESCRIPTION:Dit jaar organiseren Boven de wolken/Berrefonds opnieuw een qui
 z in Hoogstraten. Er zijn mooie prijzen te winnen en er zal ook een winkel
 tje zijn met spullen van het Berrefonds en lekkere koesterkoekjes gemaakt 
 door leerlingen van Buso Berkenbeek.\nBoven De Wolken biedt gratis profess
 ionele fotosessies aan voor sterrenouders bij het verlies van hun baby. Di
 t met veel respect\, ervaring en liefde voor kostbare herinneringen. Het B
 errefonds wil een houvast zijn voor (groot)ouders\, familie en vrienden di
 e een kind verliezen.\nPraktisch:\nDeelnemen kost € 30 per ploeg (max. 6
  personen). Meer info en inschrijvingen: quizbovendewolken@hotmail.com
DTSTART:20260606T191500
DTEND:20260606T191500
END:VEVENT
END:VCALENDAR
{
    "message": "Success"
}