BEGIN:VCALENDAR
PRODID:-//eluceo/ical//2.0/EN
VERSION:2.0
CALSCALE:GREGORIAN
BEGIN:VEVENT
UID:30b43880f5f3766abbbffaf65f907cc2
DTSTAMP:20260421T060816Z
SUMMARY:Bloed geven – Meer
DESCRIPTION:Jij kan zomaar het leven van iemand redden! Gewoon door bloed t
 e geven. Het vraagt amper een klein uurtje van je tijd.\nRode bloedcellen 
 zijn levensnoodzakelijk voor mensen die aan bloedarmoede lijden of die ern
 stige bloedingen hebben\, zoals na een zwaar ongeval of een operatie.\nDat
 ums bloed geven - Meer 2026\nWoensdag 27 meiWoensdag 23 septemberWoensdag 
 2 december
DTSTART:20260527T173000
DTEND:20260527T203000
LOCATION:Meerleseweg 4 \, 2321 Meer
END:VEVENT
END:VCALENDAR
{
    "message": "Success"
}