BEGIN:VCALENDAR
PRODID:-//eluceo/ical//2.0/EN
VERSION:2.0
CALSCALE:GREGORIAN
BEGIN:VEVENT
UID:b346407db90b8921da927a1644ed1933
DTSTAMP:20260421T093437Z
SUMMARY:Bloed geven – Meerle
DESCRIPTION:\n    Jij kan zomaar het leven van iemand redden! Gewoon door b
 loed te geven. Het vraagt amper een klein uurtje van je tijd.\n\n\n    Vol
 gende bloedafnames in Meerle\n\n\n  maandag 8 juni van 17.30 u.&nbsp\;tot 
 20.30 u.maandag 24 augustus van 17.30 u. tot 20.30 u.\n\n\n
DTSTART:20260608T173000
DTEND:20260608T203000
LOCATION:Gemeenteplein 2 \, 2328 Meerle
END:VEVENT
END:VCALENDAR
{
    "message": "Success"
}